BEGIN:VCALENDAR
VERSION:2.0
PRODID:-//Finisher&#039;s Warehouse - ECPv6.15.20//NONSGML v1.0//EN
CALSCALE:GREGORIAN
METHOD:PUBLISH
X-WR-CALNAME:Finisher&#039;s Warehouse
X-ORIGINAL-URL:https://finisherswarehouse.com
X-WR-CALDESC:Events for Finisher&#039;s Warehouse
REFRESH-INTERVAL;VALUE=DURATION:PT1H
X-Robots-Tag:noindex
X-PUBLISHED-TTL:PT1H
BEGIN:VTIMEZONE
TZID:America/Denver
BEGIN:DAYLIGHT
TZOFFSETFROM:-0700
TZOFFSETTO:-0600
TZNAME:MDT
DTSTART:20230312T090000
END:DAYLIGHT
BEGIN:STANDARD
TZOFFSETFROM:-0600
TZOFFSETTO:-0700
TZNAME:MST
DTSTART:20231105T080000
END:STANDARD
BEGIN:DAYLIGHT
TZOFFSETFROM:-0700
TZOFFSETTO:-0600
TZNAME:MDT
DTSTART:20240310T090000
END:DAYLIGHT
BEGIN:STANDARD
TZOFFSETFROM:-0600
TZOFFSETTO:-0700
TZNAME:MST
DTSTART:20241103T080000
END:STANDARD
BEGIN:DAYLIGHT
TZOFFSETFROM:-0700
TZOFFSETTO:-0600
TZNAME:MDT
DTSTART:20250309T090000
END:DAYLIGHT
BEGIN:STANDARD
TZOFFSETFROM:-0600
TZOFFSETTO:-0700
TZNAME:MST
DTSTART:20251102T080000
END:STANDARD
END:VTIMEZONE
BEGIN:VEVENT
DTSTART;TZID=America/Denver:20241116T090000
DTEND;TZID=America/Denver:20241116T130000
DTSTAMP:20260421T123611
CREATED:20240112T051451Z
LAST-MODIFIED:20241010T205231Z
UID:10000001-1731747600-1731762000@finisherswarehouse.com
SUMMARY:Introduction to Finishing Systems and Techniques
DESCRIPTION:Our Intro to Finishing Systems and Techniques is an entry-level class designed to demonstrate commonly industrial spray equipment and best practices for production finishing.\nWe will have class attendees set up\, spray and tear down the four most popular finishing systems available.\n• HVLP (Pnuematic) – We will use a gravity gun and compressed air to apply a variety of medium viscosity waterbourne coatings\, best for small jobs in a shop setting\n• HVLP (Turbine) – We will use a gravity gun and turbine compressed air to apply a variety of medium viscosity waterbourne coatings\, best for refinishing in on-premise settings\n• Airless – We will use an airless sprayer to apply medium to heavy viscosity waterbourne coatings\, best for refinishing on premise\, or for fast production in a shop setting\n• Air Assisted Airless – We will use an AAA system to apply medium to heavy viscosity waterbourne coatings\, best for large scale production in a shop setting\nOur instructors will go through the positive attributes\, and any potential shortcomings\, of each spray system. Class attendees will have as much time “on the gun” with each system. Instructors will also assist in refining spray technique and offer industry specific tips for achieving a fine finish\, optimal yield and reducing labor.\nClasses are held monthly (depending on demand) from October to May
URL:https://finisherswarehouse.com/event/introduction-to-finishing-systems-and-techniques/
LOCATION:TBD
CATEGORIES:Classes
ATTACH;FMTTYPE=image/jpeg:https://finisherswarehouse.com/wp-content/uploads/2024/01/image_50417665.jpg
END:VEVENT
END:VCALENDAR